BEGIN:VCALENDAR
VERSION:2.0
PRODID:-//Br&oslash;ndby Skakklub - ECPv6.15.20//NONSGML v1.0//EN
CALSCALE:GREGORIAN
METHOD:PUBLISH
X-ORIGINAL-URL:https://brondbyskak.dk
X-WR-CALDESC:Begivenheder for Br&oslash;ndby Skakklub
REFRESH-INTERVAL;VALUE=DURATION:PT1H
X-Robots-Tag:noindex
X-PUBLISHED-TTL:PT1H
BEGIN:VTIMEZONE
TZID:Europe/Paris
BEGIN:DAYLIGHT
TZOFFSETFROM:+0100
TZOFFSETTO:+0200
TZNAME:CEST
DTSTART:20250330T010000
END:DAYLIGHT
BEGIN:STANDARD
TZOFFSETFROM:+0200
TZOFFSETTO:+0100
TZNAME:CET
DTSTART:20251026T010000
END:STANDARD
BEGIN:DAYLIGHT
TZOFFSETFROM:+0100
TZOFFSETTO:+0200
TZNAME:CEST
DTSTART:20260329T010000
END:DAYLIGHT
BEGIN:STANDARD
TZOFFSETFROM:+0200
TZOFFSETTO:+0100
TZNAME:CET
DTSTART:20261025T010000
END:STANDARD
BEGIN:DAYLIGHT
TZOFFSETFROM:+0100
TZOFFSETTO:+0200
TZNAME:CEST
DTSTART:20270328T010000
END:DAYLIGHT
BEGIN:STANDARD
TZOFFSETFROM:+0200
TZOFFSETTO:+0100
TZNAME:CET
DTSTART:20271031T010000
END:STANDARD
END:VTIMEZONE
BEGIN:VEVENT
DTSTART;TZID=Europe/Paris:20260302T190000
DTEND;TZID=Europe/Paris:20260302T223000
DTSTAMP:20260419T222936
CREATED:20250831T134735Z
LAST-MODIFIED:20250831T134751Z
UID:734-1772478000-1772490600@brondbyskak.dk
SUMMARY:KSU runde 6
DESCRIPTION:
URL:https://brondbyskak.dk/index.php/event/ksu-runde-7/
LOCATION:Brøndby Skakklub\, Brøndby Møllevej 37\, Brøndby\, Denmark
CATEGORIES:Holdskak
END:VEVENT
BEGIN:VEVENT
DTSTART;TZID=Europe/Paris:20260305T190000
DTEND;TZID=Europe/Paris:20260305T230000
DTSTAMP:20260419T222936
CREATED:20251025T151616Z
LAST-MODIFIED:20260208T132604Z
UID:776-1772737200-1772751600@brondbyskak.dk
SUMMARY:Holdskak Valby 4 vs BSK 1
DESCRIPTION:Holdskak runde nr.6 – detaljer kan ses her: Turnerings tabel (skak.dk)
URL:https://brondbyskak.dk/index.php/event/holdskak-valby-4-vs-bsk-1/
LOCATION:Valby Skakklub\, Høffdingsvej 10\, Valby\, 2500\, Denmark
CATEGORIES:Holdskak
END:VEVENT
BEGIN:VEVENT
DTSTART;TZID=Europe/Paris:20260309T190000
DTEND;TZID=Europe/Paris:20260309T223000
DTSTAMP:20260419T222936
CREATED:20250831T134829Z
LAST-MODIFIED:20251114T172541Z
UID:737-1773082800-1773095400@brondbyskak.dk
SUMMARY:Vinterturnering runde 7
DESCRIPTION:
URL:https://brondbyskak.dk/index.php/event/vinterturnering-runde-7/
LOCATION:Brøndby Skakklub\, Brøndby Møllevej 37\, Brøndby\, Denmark
CATEGORIES:Undervisning
END:VEVENT
BEGIN:VEVENT
DTSTART;TZID=Europe/Paris:20260316T190000
DTEND;TZID=Europe/Paris:20260316T223000
DTSTAMP:20260419T222936
CREATED:20250831T134923Z
LAST-MODIFIED:20250831T134923Z
UID:739-1773687600-1773700200@brondbyskak.dk
SUMMARY:Pokalturnering
DESCRIPTION:
URL:https://brondbyskak.dk/index.php/event/pokalturnering/
LOCATION:Brøndby Skakklub\, Brøndby Møllevej 37\, Brøndby\, Denmark
CATEGORIES:Pokal
END:VEVENT
BEGIN:VEVENT
DTSTART;TZID=Europe/Paris:20260321T130000
DTEND;TZID=Europe/Paris:20260321T170000
DTSTAMP:20260419T222936
CREATED:20251025T151712Z
LAST-MODIFIED:20251025T151826Z
UID:779-1774098000-1774112400@brondbyskak.dk
SUMMARY:Holdskak BSK1 vs Odysseus 3
DESCRIPTION:Holdskak runde nr. 7 – detaljer kan ses her: Turnerings tabel (skak.dk)
URL:https://brondbyskak.dk/index.php/event/holdskak-bsk1-vs-odysseus-3/
CATEGORIES:Holdskak
END:VEVENT
BEGIN:VEVENT
DTSTART;TZID=Europe/Paris:20260321T130000
DTEND;TZID=Europe/Paris:20260321T170000
DTSTAMP:20260419T222936
CREATED:20251025T153150Z
LAST-MODIFIED:20251025T153150Z
UID:793-1774098000-1774112400@brondbyskak.dk
SUMMARY:Holdskak BSK 2 vs Øbro 8
DESCRIPTION:Holdskak runde nr.6 – detaljer kan ses her:Turnerings tabel (skak.dk)
URL:https://brondbyskak.dk/index.php/event/holdskak-bsk-2-vs-oebro-8/
CATEGORIES:Holdskak
END:VEVENT
BEGIN:VEVENT
DTSTART;TZID=Europe/Paris:20260321T130000
DTEND;TZID=Europe/Paris:20260321T210000
DTSTAMP:20260419T222936
CREATED:20250831T135027Z
LAST-MODIFIED:20250831T135027Z
UID:741-1774098000-1774126800@brondbyskak.dk
SUMMARY:KSU runde 7 med efterfølgende spisning
DESCRIPTION:
URL:https://brondbyskak.dk/index.php/event/ksu-runde-7-med-efterfoelgende-spisning/
CATEGORIES:Afslutning,Holdskak,socialt
END:VEVENT
BEGIN:VEVENT
DTSTART;TZID=Europe/Paris:20260323T190000
DTEND;TZID=Europe/Paris:20260323T223000
DTSTAMP:20260419T222936
CREATED:20250831T135103Z
LAST-MODIFIED:20250831T135103Z
UID:743-1774292400-1774305000@brondbyskak.dk
SUMMARY:Pokal
DESCRIPTION:
URL:https://brondbyskak.dk/index.php/event/pokal/
LOCATION:Brøndby Skakklub\, Brøndby Møllevej 37\, Brøndby\, Denmark
CATEGORIES:Pokal
END:VEVENT
BEGIN:VEVENT
DTSTART;TZID=Europe/Paris:20260330T190000
DTEND;TZID=Europe/Paris:20260330T223000
DTSTAMP:20260419T222936
CREATED:20250831T135139Z
LAST-MODIFIED:20260225T184905Z
UID:745-1774897200-1774909800@brondbyskak.dk
SUMMARY:Undervisning for alle / Opsamling fra Vinterturneringen
DESCRIPTION:
URL:https://brondbyskak.dk/index.php/event/pokal-2/
LOCATION:Brøndby Skakklub\, Brøndby Møllevej 37\, Brøndby\, Denmark
CATEGORIES:Undervisning
END:VEVENT
END:VCALENDAR