BEGIN:VCALENDAR
VERSION:2.0
PRODID:-//Br&oslash;ndby Skakklub - ECPv6.15.20//NONSGML v1.0//EN
CALSCALE:GREGORIAN
METHOD:PUBLISH
X-ORIGINAL-URL:https://brondbyskak.dk
X-WR-CALDESC:Begivenheder for Br&oslash;ndby Skakklub
REFRESH-INTERVAL;VALUE=DURATION:PT1H
X-Robots-Tag:noindex
X-PUBLISHED-TTL:PT1H
BEGIN:VTIMEZONE
TZID:Europe/Paris
BEGIN:DAYLIGHT
TZOFFSETFROM:+0100
TZOFFSETTO:+0200
TZNAME:CEST
DTSTART:20250330T010000
END:DAYLIGHT
BEGIN:STANDARD
TZOFFSETFROM:+0200
TZOFFSETTO:+0100
TZNAME:CET
DTSTART:20251026T010000
END:STANDARD
BEGIN:DAYLIGHT
TZOFFSETFROM:+0100
TZOFFSETTO:+0200
TZNAME:CEST
DTSTART:20260329T010000
END:DAYLIGHT
BEGIN:STANDARD
TZOFFSETFROM:+0200
TZOFFSETTO:+0100
TZNAME:CET
DTSTART:20261025T010000
END:STANDARD
BEGIN:DAYLIGHT
TZOFFSETFROM:+0100
TZOFFSETTO:+0200
TZNAME:CEST
DTSTART:20270328T010000
END:DAYLIGHT
BEGIN:STANDARD
TZOFFSETFROM:+0200
TZOFFSETTO:+0100
TZNAME:CET
DTSTART:20271031T010000
END:STANDARD
END:VTIMEZONE
BEGIN:VEVENT
DTSTART;TZID=Europe/Paris:20260105T190000
DTEND;TZID=Europe/Paris:20260105T223000
DTSTAMP:20260420T014007
CREATED:20250831T134128Z
LAST-MODIFIED:20250831T134128Z
UID:718-1767639600-1767652200@brondbyskak.dk
SUMMARY:Lynmesterskab\, afd 1
DESCRIPTION:
URL:https://brondbyskak.dk/index.php/event/lynmesterskab-afd-1/
CATEGORIES:lyn
END:VEVENT
BEGIN:VEVENT
DTSTART;TZID=Europe/Paris:20260112T190000
DTEND;TZID=Europe/Paris:20260112T223000
DTSTAMP:20260420T014007
CREATED:20250831T134206Z
LAST-MODIFIED:20250831T134206Z
UID:720-1768244400-1768257000@brondbyskak.dk
SUMMARY:Lynmesterskab\, afd.2
DESCRIPTION:
URL:https://brondbyskak.dk/index.php/event/lynmesterskab-afd-2/
LOCATION:Brøndby Skakklub\, Brøndby Møllevej 37\, Brøndby\, Denmark
CATEGORIES:lyn
END:VEVENT
BEGIN:VEVENT
DTSTART;VALUE=DATE:20260119
DTEND;VALUE=DATE:20260120
DTSTAMP:20260420T014007
CREATED:20250831T134242Z
LAST-MODIFIED:20250831T134242Z
UID:722-1768780800-1768867199@brondbyskak.dk
SUMMARY:KSU runde 4
DESCRIPTION:
URL:https://brondbyskak.dk/index.php/event/ksu-runde-4/
CATEGORIES:Holdskak
END:VEVENT
BEGIN:VEVENT
DTSTART;TZID=Europe/Paris:20260119T190000
DTEND;TZID=Europe/Paris:20260119T230000
DTSTAMP:20260420T014007
CREATED:20251025T151253Z
LAST-MODIFIED:20251025T151937Z
UID:770-1768849200-1768863600@brondbyskak.dk
SUMMARY:Holdskak Nørrebro 3 vs Brøndby 1
DESCRIPTION:Holdskak runde nr.4 – detaljer kan ses her: Turnerings tabel (skak.dk)
URL:https://brondbyskak.dk/index.php/event/holdskan-noerrebro-3-vs-broendby-1/
LOCATION:Nørrebro Skakklub\, Frejasgade 14\, 2200\, København N\, Denmark
CATEGORIES:Holdskak
END:VEVENT
BEGIN:VEVENT
DTSTART;TZID=Europe/Paris:20260121T190000
DTEND;TZID=Europe/Paris:20260121T230000
DTSTAMP:20260420T014007
CREATED:20251025T152839Z
LAST-MODIFIED:20251025T152839Z
UID:788-1769022000-1769036400@brondbyskak.dk
SUMMARY:Holdskak Frederiksberg 4 vs BSK 2
DESCRIPTION:Holdskak runde nr.4fr – detaljer kan ses her:Turnerings tabel (skak.dk)
URL:https://brondbyskak.dk/index.php/event/holdskak-frederiksberg-4-vs-bsk-2/
LOCATION:Frederiksberg Skakklub\, Falkoner Allé 36\, kld. Frederiksberg - 2000 Bedre til Skak\, Frederiksberg\, Denmark
CATEGORIES:Holdskak
END:VEVENT
BEGIN:VEVENT
DTSTART;TZID=Europe/Paris:20260126T190000
DTEND;TZID=Europe/Paris:20260126T223000
DTSTAMP:20260420T014007
CREATED:20250831T134332Z
LAST-MODIFIED:20250831T134332Z
UID:724-1769454000-1769466600@brondbyskak.dk
SUMMARY:Opsamling / spil når du kan
DESCRIPTION:
URL:https://brondbyskak.dk/index.php/event/opsamling-spil-naar-du-kan-3/
LOCATION:Brøndby Skakklub\, Brøndby Møllevej 37\, Brøndby\, Denmark
CATEGORIES:Opsamling,Spil når du kan
END:VEVENT
END:VCALENDAR