BEGIN:VCALENDAR
VERSION:2.0
PRODID:-//Br&oslash;ndby Skakklub - ECPv6.15.20//NONSGML v1.0//EN
CALSCALE:GREGORIAN
METHOD:PUBLISH
X-WR-CALNAME:Br&oslash;ndby Skakklub
X-ORIGINAL-URL:https://brondbyskak.dk
X-WR-CALDESC:Begivenheder for Br&oslash;ndby Skakklub
REFRESH-INTERVAL;VALUE=DURATION:PT1H
X-Robots-Tag:noindex
X-PUBLISHED-TTL:PT1H
BEGIN:VTIMEZONE
TZID:Europe/Paris
BEGIN:DAYLIGHT
TZOFFSETFROM:+0100
TZOFFSETTO:+0200
TZNAME:CEST
DTSTART:20240331T010000
END:DAYLIGHT
BEGIN:STANDARD
TZOFFSETFROM:+0200
TZOFFSETTO:+0100
TZNAME:CET
DTSTART:20241027T010000
END:STANDARD
BEGIN:DAYLIGHT
TZOFFSETFROM:+0100
TZOFFSETTO:+0200
TZNAME:CEST
DTSTART:20250330T010000
END:DAYLIGHT
BEGIN:STANDARD
TZOFFSETFROM:+0200
TZOFFSETTO:+0100
TZNAME:CET
DTSTART:20251026T010000
END:STANDARD
BEGIN:DAYLIGHT
TZOFFSETFROM:+0100
TZOFFSETTO:+0200
TZNAME:CEST
DTSTART:20260329T010000
END:DAYLIGHT
BEGIN:STANDARD
TZOFFSETFROM:+0200
TZOFFSETTO:+0100
TZNAME:CET
DTSTART:20261025T010000
END:STANDARD
END:VTIMEZONE
BEGIN:VEVENT
DTSTART;TZID=Europe/Paris:20251003T160000
DTEND;TZID=Europe/Paris:20251003T190000
DTSTAMP:20260420T060146
CREATED:20250831T132612Z
LAST-MODIFIED:20250831T132612Z
UID:692-1759507200-1759518000@brondbyskak.dk
SUMMARY:Brøndby Kulturnat
DESCRIPTION:
URL:https://brondbyskak.dk/index.php/event/broendby-kulturnat/
LOCATION:Brøndby Hallen\, Brøndby Stadion 10\, Brøndby\, 2605\, Denmark
CATEGORIES:Kulturnat
END:VEVENT
BEGIN:VEVENT
DTSTART;TZID=Europe/Paris:20251006T080000
DTEND;TZID=Europe/Paris:20251006T170000
DTSTAMP:20260420T060146
CREATED:20250831T132750Z
LAST-MODIFIED:20250831T132843Z
UID:694-1759737600-1759770000@brondbyskak.dk
SUMMARY:Opsamling / spil når du kan
DESCRIPTION:
URL:https://brondbyskak.dk/index.php/event/opsamling-spil-naar-du-kan/
LOCATION:Brøndby Skakklub\, Brøndby Møllevej 37\, Brøndby\, Denmark
CATEGORIES:Opsamling,Spil når du kan
END:VEVENT
BEGIN:VEVENT
DTSTART;TZID=Europe/Paris:20251013T080000
DTEND;TZID=Europe/Paris:20251013T170000
DTSTAMP:20260420T060146
CREATED:20250831T133139Z
LAST-MODIFIED:20250831T133139Z
UID:697-1760342400-1760374800@brondbyskak.dk
SUMMARY:Opsamling / Spil når du kan
DESCRIPTION:
URL:https://brondbyskak.dk/index.php/event/opsamling-spil-naar-du-kan-2/
LOCATION:Brøndby Skakklub\, Brøndby Møllevej 37\, Brøndby\, Denmark
CATEGORIES:Opsamling,Spil når du kan
END:VEVENT
BEGIN:VEVENT
DTSTART;TZID=Europe/Paris:20251020T190000
DTEND;TZID=Europe/Paris:20251020T223000
DTSTAMP:20260420T060146
CREATED:20250831T133246Z
LAST-MODIFIED:20250831T133246Z
UID:699-1760986800-1760999400@brondbyskak.dk
SUMMARY:Undervisning
DESCRIPTION:
URL:https://brondbyskak.dk/index.php/event/undervisning-2/
LOCATION:Brøndby Skakklub\, Brøndby Møllevej 37\, Brøndby\, Denmark
CATEGORIES:Undervisning
END:VEVENT
BEGIN:VEVENT
DTSTART;TZID=Europe/Paris:20251027T190000
DTEND;TZID=Europe/Paris:20251027T223000
DTSTAMP:20260420T060146
CREATED:20250831T133403Z
LAST-MODIFIED:20250831T133403Z
UID:701-1761591600-1761604200@brondbyskak.dk
SUMMARY:Vinterturnering runde 4
DESCRIPTION:
URL:https://brondbyskak.dk/index.php/event/vinterturnering-runde-4/
LOCATION:Brøndby Skakklub\, Brøndby Møllevej 37\, Brøndby\, Denmark
CATEGORIES:Vinterturnering
END:VEVENT
END:VCALENDAR