BEGIN:VCALENDAR
VERSION:2.0
PRODID:-//Br&oslash;ndby Skakklub - ECPv6.15.20//NONSGML v1.0//EN
CALSCALE:GREGORIAN
METHOD:PUBLISH
X-ORIGINAL-URL:https://brondbyskak.dk
X-WR-CALDESC:Begivenheder for Br&oslash;ndby Skakklub
REFRESH-INTERVAL;VALUE=DURATION:PT1H
X-Robots-Tag:noindex
X-PUBLISHED-TTL:PT1H
BEGIN:VTIMEZONE
TZID:Europe/Paris
BEGIN:DAYLIGHT
TZOFFSETFROM:+0100
TZOFFSETTO:+0200
TZNAME:CEST
DTSTART:20240331T010000
END:DAYLIGHT
BEGIN:STANDARD
TZOFFSETFROM:+0200
TZOFFSETTO:+0100
TZNAME:CET
DTSTART:20241027T010000
END:STANDARD
BEGIN:DAYLIGHT
TZOFFSETFROM:+0100
TZOFFSETTO:+0200
TZNAME:CEST
DTSTART:20250330T010000
END:DAYLIGHT
BEGIN:STANDARD
TZOFFSETFROM:+0200
TZOFFSETTO:+0100
TZNAME:CET
DTSTART:20251026T010000
END:STANDARD
BEGIN:DAYLIGHT
TZOFFSETFROM:+0100
TZOFFSETTO:+0200
TZNAME:CEST
DTSTART:20260329T010000
END:DAYLIGHT
BEGIN:STANDARD
TZOFFSETFROM:+0200
TZOFFSETTO:+0100
TZNAME:CET
DTSTART:20261025T010000
END:STANDARD
END:VTIMEZONE
BEGIN:VEVENT
DTSTART;TZID=Europe/Paris:20250106T190000
DTEND;TZID=Europe/Paris:20250106T230000
DTSTAMP:20260422T203359
CREATED:20240926T205206Z
LAST-MODIFIED:20240926T205206Z
UID:440-1736190000-1736204400@brondbyskak.dk
SUMMARY:Vinterturnering 5 runde
DESCRIPTION:Se stillingen og resultater her https://turnering.skak.dk/TournamentActive/Details?tourId=29112
URL:https://brondbyskak.dk/index.php/event/vinterturnering-5-runde/
LOCATION:Brøndby Skakklub\, Brøndby Møllevej 37\, Brøndby\, Denmark
CATEGORIES:Holdskak
END:VEVENT
BEGIN:VEVENT
DTSTART;VALUE=DATE:20250113
DTEND;VALUE=DATE:20250114
DTSTAMP:20260422T203359
CREATED:20250112T140126Z
LAST-MODIFIED:20250112T140126Z
UID:589-1736726400-1736812799@brondbyskak.dk
SUMMARY:Klubben har lukket
DESCRIPTION:
URL:https://brondbyskak.dk/index.php/event/klubben-har-lukket/
END:VEVENT
BEGIN:VEVENT
DTSTART;TZID=Europe/Paris:20250113T190000
DTEND;TZID=Europe/Paris:20250113T235900
DTSTAMP:20260422T203359
CREATED:20240926T205445Z
LAST-MODIFIED:20241023T190128Z
UID:446-1736794800-1736812740@brondbyskak.dk
SUMMARY:Holdskak 4. runde - 1.holdet
DESCRIPTION:4.runde i KSUs holdturnering ude mod Øbro VI
URL:https://brondbyskak.dk/index.php/event/ksu-4-runde/
LOCATION:Øbro Skakklub\, Rosenvængets Alle 31\, København Ø\, 2100\, Denmark
CATEGORIES:Holdskak
END:VEVENT
BEGIN:VEVENT
DTSTART;TZID=Europe/Paris:20250114T190000
DTEND;TZID=Europe/Paris:20250114T223000
DTSTAMP:20260422T203359
CREATED:20241023T190432Z
LAST-MODIFIED:20241023T190432Z
UID:527-1736881200-1736893800@brondbyskak.dk
SUMMARY:Holdskak 4.runde- 2.holdet
DESCRIPTION:4.runde i KSUs turnering ude mod Hvidovre II
URL:https://brondbyskak.dk/index.php/event/holdskak-4-runde-2-holdet/
LOCATION:Hvidovre Skakklub\, Hvidovre Enghavevej 2\, Hvidovre\, 2650\, Denmark
CATEGORIES:Holdskak
END:VEVENT
BEGIN:VEVENT
DTSTART;TZID=Europe/Paris:20250120T183000
DTEND;TZID=Europe/Paris:20250120T223000
DTSTAMP:20260422T203359
CREATED:20240926T205322Z
LAST-MODIFIED:20240926T205322Z
UID:442-1737397800-1737412200@brondbyskak.dk
SUMMARY:Lynmesterskabet 1.afdeling
DESCRIPTION:Nærmere detaljer kommer
URL:https://brondbyskak.dk/index.php/event/lynmesterskabet-1-afdeling/
LOCATION:Brøndby Skakklub\, Brøndby Møllevej 37\, Brøndby\, Denmark
CATEGORIES:lyn
END:VEVENT
BEGIN:VEVENT
DTSTART;TZID=Europe/Paris:20250127T183000
DTEND;TZID=Europe/Paris:20250127T223000
DTSTAMP:20260422T203359
CREATED:20240926T205404Z
LAST-MODIFIED:20240926T205404Z
UID:444-1738002600-1738017000@brondbyskak.dk
SUMMARY:Lynmesterskabet 2 afdeling
DESCRIPTION:
URL:https://brondbyskak.dk/index.php/event/lynmesterskabet-2-afdeling/
LOCATION:Brøndby Skakklub\, Brøndby Møllevej 37\, Brøndby\, Denmark
CATEGORIES:lyn
END:VEVENT
END:VCALENDAR