BEGIN:VCALENDAR
VERSION:2.0
PRODID:-//Br&oslash;ndby Skakklub - ECPv6.15.20//NONSGML v1.0//EN
CALSCALE:GREGORIAN
METHOD:PUBLISH
X-WR-CALNAME:Br&oslash;ndby Skakklub
X-ORIGINAL-URL:https://brondbyskak.dk
X-WR-CALDESC:Begivenheder for Br&oslash;ndby Skakklub
REFRESH-INTERVAL;VALUE=DURATION:PT1H
X-Robots-Tag:noindex
X-PUBLISHED-TTL:PT1H
BEGIN:VTIMEZONE
TZID:Europe/Paris
BEGIN:DAYLIGHT
TZOFFSETFROM:+0100
TZOFFSETTO:+0200
TZNAME:CEST
DTSTART:20230326T010000
END:DAYLIGHT
BEGIN:STANDARD
TZOFFSETFROM:+0200
TZOFFSETTO:+0100
TZNAME:CET
DTSTART:20231029T010000
END:STANDARD
BEGIN:DAYLIGHT
TZOFFSETFROM:+0100
TZOFFSETTO:+0200
TZNAME:CEST
DTSTART:20240331T010000
END:DAYLIGHT
BEGIN:STANDARD
TZOFFSETFROM:+0200
TZOFFSETTO:+0100
TZNAME:CET
DTSTART:20241027T010000
END:STANDARD
BEGIN:DAYLIGHT
TZOFFSETFROM:+0100
TZOFFSETTO:+0200
TZNAME:CEST
DTSTART:20250330T010000
END:DAYLIGHT
BEGIN:STANDARD
TZOFFSETFROM:+0200
TZOFFSETTO:+0100
TZNAME:CET
DTSTART:20251026T010000
END:STANDARD
END:VTIMEZONE
BEGIN:VEVENT
DTSTART;TZID=Europe/Paris:20241104T190000
DTEND;TZID=Europe/Paris:20241104T223000
DTSTAMP:20260422T235107
CREATED:20241023T185058Z
LAST-MODIFIED:20241023T185058Z
UID:511-1730746800-1730759400@brondbyskak.dk
SUMMARY:Holdskak 1. runde 2.holdet
DESCRIPTION:runde i KSUs holdturnering hjemme mod Caissa II
URL:https://brondbyskak.dk/index.php/event/holdskak-1-runde-2-holdet/
LOCATION:Brøndby Skakklub\, Brøndby Møllevej 37\, Brøndby\, Denmark
CATEGORIES:Holdskak
END:VEVENT
BEGIN:VEVENT
DTSTART;TZID=Europe/Paris:20241104T190000
DTEND;TZID=Europe/Paris:20241104T235900
DTSTAMP:20260422T235107
CREATED:20240926T203958Z
LAST-MODIFIED:20241023T184850Z
UID:418-1730746800-1730764740@brondbyskak.dk
SUMMARY:Holdskak 1. runde 1.holdet
DESCRIPTION:Første runde i KSUs holdskak er en udekamp mod Nørrebro II
URL:https://brondbyskak.dk/index.php/event/ksu-1-runde/
LOCATION:Frejasgade 14 København N – 2200 Kælderlokalerne\, Frejasgade 14\, København N\, 2200\, Denmark
CATEGORIES:Holdskak
END:VEVENT
BEGIN:VEVENT
DTSTART;TZID=Europe/Paris:20241111T183000
DTEND;TZID=Europe/Paris:20241111T200000
DTSTAMP:20260422T235107
CREATED:20240926T204042Z
LAST-MODIFIED:20240926T204042Z
UID:420-1731349800-1731355200@brondbyskak.dk
SUMMARY:Juniorundervisning
DESCRIPTION:
URL:https://brondbyskak.dk/index.php/event/juniorundervisning-2/
LOCATION:Brøndby Skakklub\, Brøndby Møllevej 37\, Brøndby\, Denmark
CATEGORIES:Undervisning
END:VEVENT
BEGIN:VEVENT
DTSTART;TZID=Europe/Paris:20241111T190000
DTEND;TZID=Europe/Paris:20241111T223000
DTSTAMP:20260422T235107
CREATED:20240926T204206Z
LAST-MODIFIED:20240926T204206Z
UID:422-1731351600-1731364200@brondbyskak.dk
SUMMARY:Evnt opsamling
DESCRIPTION:Der er mulighed for at spille udsatte kampe.
URL:https://brondbyskak.dk/index.php/event/evnt-opsamling/
LOCATION:Brøndby Skakklub\, Brøndby Møllevej 37\, Brøndby\, Denmark
CATEGORIES:Vinterturnering
END:VEVENT
BEGIN:VEVENT
DTSTART;TZID=Europe/Paris:20241111T190000
DTEND;TZID=Europe/Paris:20241111T223000
DTSTAMP:20260422T235107
CREATED:20240926T204340Z
LAST-MODIFIED:20240926T204340Z
UID:425-1731351600-1731364200@brondbyskak.dk
SUMMARY:"Spil når du kan" - turnering
DESCRIPTION:Turneringen løber over hele året og spilles primært på opsamlingsaftenerne. Nærmere detaljer følger
URL:https://brondbyskak.dk/index.php/event/spil-naar-du-kan-turnering-2/
LOCATION:Brøndby Skakklub\, Brøndby Møllevej 37\, Brøndby\, Denmark
CATEGORIES:Spil når du kan
END:VEVENT
BEGIN:VEVENT
DTSTART;TZID=Europe/Paris:20241118T190000
DTEND;TZID=Europe/Paris:20241118T235900
DTSTAMP:20260422T235107
CREATED:20240926T204420Z
LAST-MODIFIED:20241023T185243Z
UID:427-1731956400-1731974340@brondbyskak.dk
SUMMARY:Holdskak 2. runde - 1.holdet
DESCRIPTION:2. runde i KSUs holdskak – hjemmekamp mod Odysseus III
URL:https://brondbyskak.dk/index.php/event/ksu-2-runde/
LOCATION:Brøndby Skakklub\, Brøndby Møllevej 37\, Brøndby\, Denmark
CATEGORIES:Holdskak
END:VEVENT
BEGIN:VEVENT
DTSTART;TZID=Europe/Paris:20241121T190000
DTEND;TZID=Europe/Paris:20241121T223000
DTSTAMP:20260422T235107
CREATED:20241023T185520Z
LAST-MODIFIED:20241023T185520Z
UID:515-1732215600-1732228200@brondbyskak.dk
SUMMARY:Holdskak 2.runde -2.holdet
DESCRIPTION:2. runde i KSU’s holdturnering – 2.holdet spiller ude mod Valby IV
URL:https://brondbyskak.dk/index.php/event/holdskak-2-runde-2-holdet/
LOCATION:Valby Skakklub\, Høffdingsvej 10\, Valby\, 2500\, Denmark
CATEGORIES:Holdskak
END:VEVENT
BEGIN:VEVENT
DTSTART;TZID=Europe/Paris:20241125T180000
DTEND;TZID=Europe/Paris:20241125T210000
DTSTAMP:20260422T235107
CREATED:20240926T204525Z
LAST-MODIFIED:20240926T204525Z
UID:429-1732557600-1732568400@brondbyskak.dk
SUMMARY:Undervisning for alle
DESCRIPTION:Undervisningsaften for alle klubbens medlemmer
URL:https://brondbyskak.dk/index.php/event/undervisning-for-alle-2/
LOCATION:Brøndby Skakklub\, Brøndby Møllevej 37\, Brøndby\, Denmark
CATEGORIES:Undervisning
END:VEVENT
END:VCALENDAR