BEGIN:VCALENDAR
VERSION:2.0
PRODID:-//Br&oslash;ndby Skakklub - ECPv6.15.20//NONSGML v1.0//EN
CALSCALE:GREGORIAN
METHOD:PUBLISH
X-WR-CALNAME:Br&oslash;ndby Skakklub
X-ORIGINAL-URL:https://brondbyskak.dk
X-WR-CALDESC:Begivenheder for Br&oslash;ndby Skakklub
REFRESH-INTERVAL;VALUE=DURATION:PT1H
X-Robots-Tag:noindex
X-PUBLISHED-TTL:PT1H
BEGIN:VTIMEZONE
TZID:Europe/Paris
BEGIN:DAYLIGHT
TZOFFSETFROM:+0100
TZOFFSETTO:+0200
TZNAME:CEST
DTSTART:20230326T010000
END:DAYLIGHT
BEGIN:STANDARD
TZOFFSETFROM:+0200
TZOFFSETTO:+0100
TZNAME:CET
DTSTART:20231029T010000
END:STANDARD
BEGIN:DAYLIGHT
TZOFFSETFROM:+0100
TZOFFSETTO:+0200
TZNAME:CEST
DTSTART:20240331T010000
END:DAYLIGHT
BEGIN:STANDARD
TZOFFSETFROM:+0200
TZOFFSETTO:+0100
TZNAME:CET
DTSTART:20241027T010000
END:STANDARD
BEGIN:DAYLIGHT
TZOFFSETFROM:+0100
TZOFFSETTO:+0200
TZNAME:CEST
DTSTART:20250330T010000
END:DAYLIGHT
BEGIN:STANDARD
TZOFFSETFROM:+0200
TZOFFSETTO:+0100
TZNAME:CET
DTSTART:20251026T010000
END:STANDARD
END:VTIMEZONE
BEGIN:VEVENT
DTSTART;TZID=Europe/Paris:20241004T163000
DTEND;TZID=Europe/Paris:20241004T203000
DTSTAMP:20260423T012448
CREATED:20240926T202758Z
LAST-MODIFIED:20240926T202758Z
UID:399-1728059400-1728073800@brondbyskak.dk
SUMMARY:Kulturnat Brøndby
DESCRIPTION:Vi deltager til Brøndby Kulturnat og har plads indenfor i Brøndby Hallen. Læs mere om programmet her \nBrøndby Kulturnat | Brøndby Kulturnat (brondby.dk) \n 
URL:https://brondbyskak.dk/index.php/event/kulturnat-broendby/
LOCATION:Brøndby Hallen\, Brøndby Stadion 10\, Brøndby\, 2605\, Denmark
CATEGORIES:Kulturnat
END:VEVENT
BEGIN:VEVENT
DTSTART;TZID=Europe/Paris:20241007T183000
DTEND;TZID=Europe/Paris:20241007T200000
DTSTAMP:20260423T012448
CREATED:20240926T202911Z
LAST-MODIFIED:20240926T202911Z
UID:402-1728325800-1728331200@brondbyskak.dk
SUMMARY:Junior undervisning
DESCRIPTION:Kom og lær skak
URL:https://brondbyskak.dk/index.php/event/junior-undervisning-2/
LOCATION:Brøndby Skakklub\, Brøndby Møllevej 37\, Brøndby\, Denmark
CATEGORIES:Undervisning
END:VEVENT
BEGIN:VEVENT
DTSTART;TZID=Europe/Paris:20241007T190000
DTEND;TZID=Europe/Paris:20241007T223000
DTSTAMP:20260423T012448
CREATED:20240926T203050Z
LAST-MODIFIED:20240926T203050Z
UID:404-1728327600-1728340200@brondbyskak.dk
SUMMARY:Vinterturnering runde 2
DESCRIPTION:2. runde i vinterturneringen – se modstander her \n https://turnering.skak.dk/TournamentActive/Details?tourId=29112
URL:https://brondbyskak.dk/index.php/event/vinterturnering-runde-2/
LOCATION:Brøndby Skakklub\, Brøndby Møllevej 37\, Brøndby\, Denmark
CATEGORIES:Vinterturnering
END:VEVENT
BEGIN:VEVENT
DTSTART;TZID=Europe/Paris:20241014T190000
DTEND;TZID=Europe/Paris:20241014T223000
DTSTAMP:20260423T012448
CREATED:20240926T203216Z
LAST-MODIFIED:20240926T203216Z
UID:406-1728932400-1728945000@brondbyskak.dk
SUMMARY:Opsamling fra 2.runde
DESCRIPTION:
URL:https://brondbyskak.dk/index.php/event/opsamling-fra-2-runde/
LOCATION:Brøndby Skakklub\, Brøndby Møllevej 37\, Brøndby\, Denmark
CATEGORIES:Vinterturnering
END:VEVENT
BEGIN:VEVENT
DTSTART;TZID=Europe/Paris:20241014T190000
DTEND;TZID=Europe/Paris:20241014T223000
DTSTAMP:20260423T012448
CREATED:20240926T203500Z
LAST-MODIFIED:20240926T203500Z
UID:409-1728932400-1728945000@brondbyskak.dk
SUMMARY:Spil når du kan turnering
DESCRIPTION:Første runde i “spil når du kan”- turnering. Turneringen løber over hele året og spilles primært på opsamlingsaftenerne. Nærmere detaljer følger
URL:https://brondbyskak.dk/index.php/event/spil-naar-du-kan-turnering/
LOCATION:Brøndby Skakklub\, Brøndby Møllevej 37\, Brøndby\, Denmark
END:VEVENT
BEGIN:VEVENT
DTSTART;TZID=Europe/Paris:20241021T183000
DTEND;TZID=Europe/Paris:20241021T210000
DTSTAMP:20260423T012448
CREATED:20240926T203604Z
LAST-MODIFIED:20240926T203604Z
UID:412-1729535400-1729544400@brondbyskak.dk
SUMMARY:Undervisning for alle
DESCRIPTION:Undervisningsaften for alle i klubben. Emnet bliver meldt ud snarligst
URL:https://brondbyskak.dk/index.php/event/undervisning-for-alle/
LOCATION:Brøndby Skakklub\, Brøndby Møllevej 37\, Brøndby\, Denmark
CATEGORIES:Undervisning
END:VEVENT
BEGIN:VEVENT
DTSTART;TZID=Europe/Paris:20241028T080000
DTEND;TZID=Europe/Paris:20241028T170000
DTSTAMP:20260423T012448
CREATED:20240926T203759Z
LAST-MODIFIED:20240926T203834Z
UID:416-1730102400-1730134800@brondbyskak.dk
SUMMARY:Vinterturnering 3. runde
DESCRIPTION:Vi spiller 3.runde – se modstander og stilling her \nhttps://turnering.skak.dk/TournamentActive/Details?tourId=29112
URL:https://brondbyskak.dk/index.php/event/vinterturnering-3-runde/
LOCATION:Brøndby Skakklub\, Brøndby Møllevej 37\, Brøndby\, Denmark
CATEGORIES:Vinterturnering
END:VEVENT
BEGIN:VEVENT
DTSTART;TZID=Europe/Paris:20241028T183000
DTEND;TZID=Europe/Paris:20241028T200000
DTSTAMP:20260423T012448
CREATED:20240926T203647Z
LAST-MODIFIED:20240926T205042Z
UID:414-1730140200-1730145600@brondbyskak.dk
SUMMARY:Juniorundervisning - Halloween
DESCRIPTION:
URL:https://brondbyskak.dk/index.php/event/juniorundervisning/
LOCATION:Brøndby Skakklub\, Brøndby Møllevej 37\, Brøndby\, Denmark
CATEGORIES:Undervisning
ATTACH;FMTTYPE=image/jpeg:https://brondbyskak.dk/wp-content/uploads/2023/11/IMG_1998-rotated.jpg
END:VEVENT
END:VCALENDAR