BEGIN:VCALENDAR
VERSION:2.0
PRODID:-//Br&oslash;ndby Skakklub - ECPv6.15.20//NONSGML v1.0//EN
CALSCALE:GREGORIAN
METHOD:PUBLISH
X-WR-CALNAME:Br&oslash;ndby Skakklub
X-ORIGINAL-URL:https://brondbyskak.dk
X-WR-CALDESC:Begivenheder for Br&oslash;ndby Skakklub
REFRESH-INTERVAL;VALUE=DURATION:PT1H
X-Robots-Tag:noindex
X-PUBLISHED-TTL:PT1H
BEGIN:VTIMEZONE
TZID:Europe/Paris
BEGIN:DAYLIGHT
TZOFFSETFROM:+0100
TZOFFSETTO:+0200
TZNAME:CEST
DTSTART:20250330T010000
END:DAYLIGHT
BEGIN:STANDARD
TZOFFSETFROM:+0200
TZOFFSETTO:+0100
TZNAME:CET
DTSTART:20251026T010000
END:STANDARD
BEGIN:DAYLIGHT
TZOFFSETFROM:+0100
TZOFFSETTO:+0200
TZNAME:CEST
DTSTART:20260329T010000
END:DAYLIGHT
BEGIN:STANDARD
TZOFFSETFROM:+0200
TZOFFSETTO:+0100
TZNAME:CET
DTSTART:20261025T010000
END:STANDARD
BEGIN:DAYLIGHT
TZOFFSETFROM:+0100
TZOFFSETTO:+0200
TZNAME:CEST
DTSTART:20270328T010000
END:DAYLIGHT
BEGIN:STANDARD
TZOFFSETFROM:+0200
TZOFFSETTO:+0100
TZNAME:CET
DTSTART:20271031T010000
END:STANDARD
END:VTIMEZONE
BEGIN:VEVENT
DTSTART;TZID=Europe/Paris:20260121T190000
DTEND;TZID=Europe/Paris:20260121T230000
DTSTAMP:20260420T030222
CREATED:20251025T152839Z
LAST-MODIFIED:20251025T152839Z
UID:788-1769022000-1769036400@brondbyskak.dk
SUMMARY:Holdskak Frederiksberg 4 vs BSK 2
DESCRIPTION:Holdskak runde nr.4fr – detaljer kan ses her:Turnerings tabel (skak.dk)
URL:https://brondbyskak.dk/index.php/event/holdskak-frederiksberg-4-vs-bsk-2/
LOCATION:Frederiksberg Skakklub\, Falkoner Allé 36\, kld. Frederiksberg - 2000 Bedre til Skak\, Frederiksberg\, Denmark
CATEGORIES:Holdskak
END:VEVENT
END:VCALENDAR