BEGIN:VCALENDAR
VERSION:2.0
PRODID:-//Br&oslash;ndby Skakklub - ECPv6.15.20//NONSGML v1.0//EN
CALSCALE:GREGORIAN
METHOD:PUBLISH
X-ORIGINAL-URL:https://brondbyskak.dk
X-WR-CALDESC:Begivenheder for Br&oslash;ndby Skakklub
REFRESH-INTERVAL;VALUE=DURATION:PT1H
X-Robots-Tag:noindex
X-PUBLISHED-TTL:PT1H
BEGIN:VTIMEZONE
TZID:Europe/Paris
BEGIN:DAYLIGHT
TZOFFSETFROM:+0100
TZOFFSETTO:+0200
TZNAME:CEST
DTSTART:20240331T010000
END:DAYLIGHT
BEGIN:STANDARD
TZOFFSETFROM:+0200
TZOFFSETTO:+0100
TZNAME:CET
DTSTART:20241027T010000
END:STANDARD
BEGIN:DAYLIGHT
TZOFFSETFROM:+0100
TZOFFSETTO:+0200
TZNAME:CEST
DTSTART:20250330T010000
END:DAYLIGHT
BEGIN:STANDARD
TZOFFSETFROM:+0200
TZOFFSETTO:+0100
TZNAME:CET
DTSTART:20251026T010000
END:STANDARD
BEGIN:DAYLIGHT
TZOFFSETFROM:+0100
TZOFFSETTO:+0200
TZNAME:CEST
DTSTART:20260329T010000
END:DAYLIGHT
BEGIN:STANDARD
TZOFFSETFROM:+0200
TZOFFSETTO:+0100
TZNAME:CET
DTSTART:20261025T010000
END:STANDARD
END:VTIMEZONE
BEGIN:VEVENT
DTSTART;TZID=Europe/Paris:20250407T183000
DTEND;TZID=Europe/Paris:20250407T200000
DTSTAMP:20260422T174155
CREATED:20240926T210928Z
LAST-MODIFIED:20240926T211302Z
UID:485-1744050600-1744056000@brondbyskak.dk
SUMMARY:Juniorundervisning
DESCRIPTION:
URL:https://brondbyskak.dk/index.php/event/juniorundervisning-8/
LOCATION:Brøndby Skakklub\, Brøndby Møllevej 37\, Brøndby\, Denmark
CATEGORIES:Undervisning
END:VEVENT
BEGIN:VEVENT
DTSTART;TZID=Europe/Paris:20250407T183000
DTEND;TZID=Europe/Paris:20250407T220000
DTSTAMP:20260422T174155
CREATED:20240926T210855Z
LAST-MODIFIED:20240926T210855Z
UID:483-1744050600-1744063200@brondbyskak.dk
SUMMARY:"Spil når du kan" turnering
DESCRIPTION:
URL:https://brondbyskak.dk/index.php/event/spil-naar-du-kan-turnering-6/
LOCATION:Brøndby Skakklub\, Brøndby Møllevej 37\, Brøndby\, Denmark
CATEGORIES:Spil når du kan
END:VEVENT
END:VCALENDAR