BEGIN:VCALENDAR
VERSION:2.0
PRODID:-//Br&oslash;ndby Skakklub - ECPv6.15.20//NONSGML v1.0//EN
CALSCALE:GREGORIAN
METHOD:PUBLISH
X-WR-CALNAME:Br&oslash;ndby Skakklub
X-ORIGINAL-URL:https://brondbyskak.dk
X-WR-CALDESC:Begivenheder for Br&oslash;ndby Skakklub
REFRESH-INTERVAL;VALUE=DURATION:PT1H
X-Robots-Tag:noindex
X-PUBLISHED-TTL:PT1H
BEGIN:VTIMEZONE
TZID:Europe/Paris
BEGIN:DAYLIGHT
TZOFFSETFROM:+0100
TZOFFSETTO:+0200
TZNAME:CEST
DTSTART:20240331T010000
END:DAYLIGHT
BEGIN:STANDARD
TZOFFSETFROM:+0200
TZOFFSETTO:+0100
TZNAME:CET
DTSTART:20241027T010000
END:STANDARD
BEGIN:DAYLIGHT
TZOFFSETFROM:+0100
TZOFFSETTO:+0200
TZNAME:CEST
DTSTART:20250330T010000
END:DAYLIGHT
BEGIN:STANDARD
TZOFFSETFROM:+0200
TZOFFSETTO:+0100
TZNAME:CET
DTSTART:20251026T010000
END:STANDARD
BEGIN:DAYLIGHT
TZOFFSETFROM:+0100
TZOFFSETTO:+0200
TZNAME:CEST
DTSTART:20260329T010000
END:DAYLIGHT
BEGIN:STANDARD
TZOFFSETFROM:+0200
TZOFFSETTO:+0100
TZNAME:CET
DTSTART:20261025T010000
END:STANDARD
END:VTIMEZONE
BEGIN:VEVENT
DTSTART;VALUE=DATE:20250113
DTEND;VALUE=DATE:20250114
DTSTAMP:20260422T220614
CREATED:20250112T140126Z
LAST-MODIFIED:20250112T140126Z
UID:589-1736726400-1736812799@brondbyskak.dk
SUMMARY:Klubben har lukket
DESCRIPTION:
URL:https://brondbyskak.dk/index.php/event/klubben-har-lukket/
END:VEVENT
BEGIN:VEVENT
DTSTART;TZID=Europe/Paris:20250113T190000
DTEND;TZID=Europe/Paris:20250113T235900
DTSTAMP:20260422T220614
CREATED:20240926T205445Z
LAST-MODIFIED:20241023T190128Z
UID:446-1736794800-1736812740@brondbyskak.dk
SUMMARY:Holdskak 4. runde - 1.holdet
DESCRIPTION:4.runde i KSUs holdturnering ude mod Øbro VI
URL:https://brondbyskak.dk/index.php/event/ksu-4-runde/
LOCATION:Øbro Skakklub\, Rosenvængets Alle 31\, København Ø\, 2100\, Denmark
CATEGORIES:Holdskak
END:VEVENT
END:VCALENDAR