BEGIN:VCALENDAR
VERSION:2.0
PRODID:-//Br&oslash;ndby Skakklub - ECPv6.15.20//NONSGML v1.0//EN
CALSCALE:GREGORIAN
METHOD:PUBLISH
X-ORIGINAL-URL:https://brondbyskak.dk
X-WR-CALDESC:Begivenheder for Br&oslash;ndby Skakklub
REFRESH-INTERVAL;VALUE=DURATION:PT1H
X-Robots-Tag:noindex
X-PUBLISHED-TTL:PT1H
BEGIN:VTIMEZONE
TZID:Europe/Paris
BEGIN:DAYLIGHT
TZOFFSETFROM:+0100
TZOFFSETTO:+0200
TZNAME:CEST
DTSTART:20230326T010000
END:DAYLIGHT
BEGIN:STANDARD
TZOFFSETFROM:+0200
TZOFFSETTO:+0100
TZNAME:CET
DTSTART:20231029T010000
END:STANDARD
BEGIN:DAYLIGHT
TZOFFSETFROM:+0100
TZOFFSETTO:+0200
TZNAME:CEST
DTSTART:20240331T010000
END:DAYLIGHT
BEGIN:STANDARD
TZOFFSETFROM:+0200
TZOFFSETTO:+0100
TZNAME:CET
DTSTART:20241027T010000
END:STANDARD
BEGIN:DAYLIGHT
TZOFFSETFROM:+0100
TZOFFSETTO:+0200
TZNAME:CEST
DTSTART:20250330T010000
END:DAYLIGHT
BEGIN:STANDARD
TZOFFSETFROM:+0200
TZOFFSETTO:+0100
TZNAME:CET
DTSTART:20251026T010000
END:STANDARD
END:VTIMEZONE
BEGIN:VEVENT
DTSTART;TZID=Europe/Paris:20240930T183000
DTEND;TZID=Europe/Paris:20240930T190000
DTSTAMP:20260423T030057
CREATED:20240926T201640Z
LAST-MODIFIED:20240926T201640Z
UID:394-1727721000-1727722800@brondbyskak.dk
SUMMARY:Junior undervisning
DESCRIPTION:
URL:https://brondbyskak.dk/index.php/event/junior-undervisning/
CATEGORIES:Undervisning
END:VEVENT
BEGIN:VEVENT
DTSTART;TZID=Europe/Paris:20240930T190000
DTEND;TZID=Europe/Paris:20240930T223000
DTSTAMP:20260423T030057
CREATED:20240926T200543Z
LAST-MODIFIED:20240926T200543Z
UID:386-1727722800-1727735400@brondbyskak.dk
SUMMARY:Fisher Random / 960 skak
DESCRIPTION:Vi spiller en miniturnering i Fisher Random
URL:https://brondbyskak.dk/index.php/event/fisher-random-960-skak/
LOCATION:Brøndby Skakklub\, Brøndby Møllevej 37\, Brøndby\, Denmark
CATEGORIES:Skakturnering 960
ATTACH;FMTTYPE=image/png:https://brondbyskak.dk/wp-content/uploads/2023/08/DALL·E-2023-08-09-22.06.08-chessboard-with-a-sunset.png
END:VEVENT
BEGIN:VEVENT
DTSTART;TZID=Europe/Paris:20240930T190000
DTEND;TZID=Europe/Paris:20240930T230000
DTSTAMP:20260423T030057
CREATED:20240926T202411Z
LAST-MODIFIED:20240926T202431Z
UID:397-1727722800-1727737200@brondbyskak.dk
SUMMARY:Opsamling
DESCRIPTION:Opsamling fra 1. runde med følgende kampe \nJan Ole vs Michael \nHening N vs HJ \n  \nSe stillingen her: DSU turneringssystem (skak.dk)
URL:https://brondbyskak.dk/index.php/event/opsamling/
CATEGORIES:Vinterturnering
END:VEVENT
END:VCALENDAR